BEGIN:VCALENDAR
VERSION:2.0
PRODID:-//بنیاد پژوهشی پاویتال - ECPv6.7.0//NONSGML v1.0//EN
CALSCALE:GREGORIAN
METHOD:PUBLISH
X-WR-CALNAME:بنیاد پژوهشی پاویتال
X-ORIGINAL-URL:https://pavitalfundation.com
X-WR-CALDESC:Events for بنیاد پژوهشی پاویتال
REFRESH-INTERVAL;VALUE=DURATION:PT1H
X-Robots-Tag:noindex
X-PUBLISHED-TTL:PT1H
BEGIN:VTIMEZONE
TZID:UTC
BEGIN:STANDARD
TZOFFSETFROM:+0000
TZOFFSETTO:+0000
TZNAME:UTC
DTSTART:20250101T000000
END:STANDARD
END:VTIMEZONE
BEGIN:VEVENT
DTSTART;TZID=UTC:20250101T130000
DTEND;TZID=UTC:20250101T170000
DTSTAMP:20260419T190242
CREATED:20241001T203538Z
LAST-MODIFIED:20241001T203538Z
UID:44-1735736400-1735750800@pavitalfundation.com
SUMMARY:Harmony in the Park: A Community Music and Arts Festival
DESCRIPTION:Join us for a day of creative expression and community bonding at our annual Harmony in the Park festival! Featuring local musicians\, artists\, and crafters\, this event offers a platform for showcasing talent while fostering connections. From live performances to interactive art installations and workshops for all ages\, there’s something for everyone to enjoy. Bring your family and friends to experience the vibrant culture of our community in the beautiful setting of our local park.
URL:https://pavitalfundation.com/event/harmony-in-the-park-a-community-music-and-arts-festival/
CATEGORIES:Community,Festival
ATTACH;FMTTYPE=image/jpeg:https://pavitalfundation.com/wp-content/uploads/2024/10/person-writing-on-a-notebook.jpeg
ORGANIZER;CN="Community Outreach":MAILTO:info@communityoutreach.org
END:VEVENT
END:VCALENDAR