BEGIN:VCALENDAR
VERSION:2.0
PRODID:-//بنیاد پژوهشی پاویتال - ECPv6.7.0//NONSGML v1.0//EN
CALSCALE:GREGORIAN
METHOD:PUBLISH
X-WR-CALNAME:بنیاد پژوهشی پاویتال
X-ORIGINAL-URL:https://pavitalfundation.com
X-WR-CALDESC:Events for بنیاد پژوهشی پاویتال
REFRESH-INTERVAL;VALUE=DURATION:PT1H
X-Robots-Tag:noindex
X-PUBLISHED-TTL:PT1H
BEGIN:VTIMEZONE
TZID:UTC
BEGIN:STANDARD
TZOFFSETFROM:+0000
TZOFFSETTO:+0000
TZNAME:UTC
DTSTART:20240101T000000
END:STANDARD
END:VTIMEZONE
BEGIN:VEVENT
DTSTART;TZID=UTC:20241101T130000
DTEND;TZID=UTC:20241101T170000
DTSTAMP:20260421T033427
CREATED:20241001T203537Z
LAST-MODIFIED:20241001T203537Z
UID:41-1730466000-1730480400@pavitalfundation.com
SUMMARY:Tech Together: Community-Led Technology Workshop
DESCRIPTION:Dive into the digital world with Tech Together\, a series of community-led technology workshops designed to empower residents with the skills needed for the modern age. Whether you’re looking to master the basics of computer use\, understand internet safety\, or explore the realms of coding and digital creativity\, our friendly\, approachable sessions have you covered. Led by local tech enthusiasts and professionals\, these workshops provide a supportive environment for learning and innovation. Join us to bridge the digital divide\, enhance your tech proficiency\, and connect with fellow learners in a collaborative\, inclusive setting.
URL:https://pavitalfundation.com/event/tech-together-community-led-technology-workshop/
ATTACH;FMTTYPE=image/jpeg:https://pavitalfundation.com/wp-content/uploads/2024/10/the-word-consulting-spelled-out-in-scrabble.jpeg
ORGANIZER;CN="Community Outreach":MAILTO:info@communityoutreach.org
END:VEVENT
END:VCALENDAR